BEGIN:VCALENDAR
VERSION:2.0
PRODID:-//kommunaljutsu.org//NONSGML v1.0//EN
METHOD:PUBLISH
CALSCALE:GREGORIAN
BEGIN:VEVENT
UID:https://www.kumberg.gv.at/?post_type=muelltermin&#038;p=10523
DTSTAMP:20260421T111542Z
DTSTART;VALUE=DATE:20261211
DTEND;VALUE=DATE:20261212
LOCATION:
DESCRIPTION:
URL;VALUE=URI:
SUMMARY:Bio
BEGIN:VALARM
TRIGGER;VALUE=DATE-TIME:20261210T140000Z
ACTION:DISPLAY
DESCRIPTION:ALARM
END:VALARM
END:VEVENT
END:VCALENDAR
