BEGIN:VCALENDAR
VERSION:2.0
PRODID:-//kommunaljutsu.org//NONSGML v1.0//EN
METHOD:PUBLISH
CALSCALE:GREGORIAN
BEGIN:VEVENT
UID:https://www.kumberg.gv.at/?post_type=muelltermin&#038;p=10525
DTSTAMP:20260421T111403Z
DTSTART;VALUE=DATE:20261222
DTEND;VALUE=DATE:20261223
LOCATION:
DESCRIPTION:
URL;VALUE=URI:
SUMMARY:Papier
BEGIN:VALARM
TRIGGER;VALUE=DATE-TIME:20261221T140000Z
ACTION:DISPLAY
DESCRIPTION:ALARM
END:VALARM
END:VEVENT
END:VCALENDAR
