BEGIN:VCALENDAR
VERSION:2.0
PRODID:-//kommunaljutsu.org//NONSGML v1.0//EN
METHOD:PUBLISH
CALSCALE:GREGORIAN
BEGIN:VEVENT
UID:https://www.kumberg.gv.at/?post_type=muelltermin&#038;p=10528
DTSTAMP:20260421T112255Z
DTSTART;VALUE=DATE:20261231
DTEND;VALUE=DATE:20270101
LOCATION:
DESCRIPTION:
URL;VALUE=URI:
SUMMARY:Restmüll
BEGIN:VALARM
TRIGGER;VALUE=DATE-TIME:20261230T140000Z
ACTION:DISPLAY
DESCRIPTION:ALARM
END:VALARM
END:VEVENT
END:VCALENDAR
