BEGIN:VCALENDAR
VERSION:2.0
PRODID:-//kommunaljutsu.org//NONSGML v1.0//EN
METHOD:PUBLISH
CALSCALE:GREGORIAN
BEGIN:VEVENT
UID:https://www.kumberg.gv.at/veranstaltungen/adventfeier-beim-lichte
 rbaum-4/
DTSTAMP:20260421T104424Z
DTSTART:20261127T170000Z
DTEND:20261126T230000Z
LOCATION:
DESCRIPTION:Freitag\, 27. November 2026\n18.00 Uhr\n  Adventfeier be
 im Lichterbaum\nMarktplatz Kumberg\nMarktgemeinde Kumberg\n
URL;VALUE=URI:
SUMMARY:adventfeier-beim-lichterbaum-4
BEGIN:VALARM
TRIGGER;VALUE=DATE-TIME:20261126T140000Z
ACTION:DISPLAY
DESCRIPTION:ALARM
END:VALARM
END:VEVENT
END:VCALENDAR
