BEGIN:VCALENDAR
VERSION:2.0
PRODID:-//kommunaljutsu.org//NONSGML v1.0//EN
METHOD:PUBLISH
CALSCALE:GREGORIAN
BEGIN:VEVENT
UID:https://www.kumberg.gv.at/veranstaltungen/bauberatung-dipl-htl-in
 g-heribert-hegedys-28/
DTSTAMP:20260421T110547Z
DTSTART:20261201T090000Z
DTEND:20261201T110000Z
LOCATION:
DESCRIPTION:Dienstag\, 1. Dezember 2026  von 10.00 bis 12.00 Uhr \n(
 telefonische Anmeldung erforderlich – 03132/22 03-18 )\n
URL;VALUE=URI:
SUMMARY:bauberatung-dipl-htl-ing-heribert-hegedys-28
BEGIN:VALARM
TRIGGER;VALUE=DATE-TIME:20261130T140000Z
ACTION:DISPLAY
DESCRIPTION:ALARM
END:VALARM
END:VEVENT
END:VCALENDAR
