BEGIN:VCALENDAR
VERSION:2.0
PRODID:-//kommunaljutsu.org//NONSGML v1.0//EN
METHOD:PUBLISH
CALSCALE:GREGORIAN
BEGIN:VEVENT
UID:https://www.kumberg.gv.at/veranstaltungen/bibliotheksfruehstueck-
 vorlesetag/
DTSTAMP:20260421T030008Z
DTSTART:20260613T070000Z
DTEND:20260613T090000Z
LOCATION:
DESCRIPTION:Samstag\, 13. Juni 2026\n9.00 &#8211\; 11.00 Uhr\n  Bibl
 iotheksfrühstück &amp\; Vorlesetag\nBibliothek Kumberg\nBibliothek 
 Kumberg\n
URL;VALUE=URI:
SUMMARY:bibliotheksfruehstueck-vorlesetag
BEGIN:VALARM
TRIGGER;VALUE=DATE-TIME:20260612T130000Z
ACTION:DISPLAY
DESCRIPTION:ALARM
END:VALARM
END:VEVENT
END:VCALENDAR
