BEGIN:VCALENDAR
VERSION:2.0
PRODID:-//kommunaljutsu.org//NONSGML v1.0//EN
METHOD:PUBLISH
CALSCALE:GREGORIAN
BEGIN:VEVENT
UID:https://www.kumberg.gv.at/veranstaltungen/boundless-movement-onli
 ne-sessions/
DTSTAMP:20260424T110040Z
DTSTART:20260427T160000Z
DTEND:20260427T170000Z
LOCATION:
DESCRIPTION:Sanfte Bewegung\, die sich wieder gut anfühlt.\n Montags
  \, von 18.00 bis 19.00 Uhr (live via Zoom). Monatspaket: € 48\,&#8
 211\; (nur € 12\,&#8211\; pro Session).\nFlexibel &amp\; unkomplizi
 ert &#8211\; alle Sessions werden aufgezeichnet und stehen dir eine W
 oche lang zur Verfügung. Du kannst sie ganz entspannt nachholen.\nOh
 ne Risiko für dich &#8211\; spüre selbst\,&hellip\; weiterlesen: &#
 8222\;BOUNDLESS MOVEMENT – Online Sessions&#8220\;\n
URL;VALUE=URI:
SUMMARY:boundless-movement-online-sessions
BEGIN:VALARM
TRIGGER;VALUE=DATE-TIME:20260426T130000Z
ACTION:DISPLAY
DESCRIPTION:ALARM
END:VALARM
END:VEVENT
END:VCALENDAR
