BEGIN:VCALENDAR
VERSION:2.0
PRODID:-//kommunaljutsu.org//NONSGML v1.0//EN
METHOD:PUBLISH
CALSCALE:GREGORIAN
BEGIN:VEVENT
UID:https://www.kumberg.gv.at/veranstaltungen/finale-alpen-pannonian-
 western-cup/
DTSTAMP:20260421T083118Z
DTSTART:20260829T060000Z
DTEND:20260828T220000Z
LOCATION:
DESCRIPTION:29.08.2026 Finale Alpen-Pannonian-Western-Cup am Landgut 
 Jantscher ab 08.00 Uhr\n
URL;VALUE=URI:
SUMMARY:finale-alpen-pannonian-western-cup
BEGIN:VALARM
TRIGGER;VALUE=DATE-TIME:20260828T130000Z
ACTION:DISPLAY
DESCRIPTION:ALARM
END:VALARM
END:VEVENT
END:VCALENDAR
