BEGIN:VCALENDAR
VERSION:2.0
PRODID:-//kommunaljutsu.org//NONSGML v1.0//EN
METHOD:PUBLISH
CALSCALE:GREGORIAN
BEGIN:VEVENT
UID:https://www.kumberg.gv.at/veranstaltungen/firmung-4/
DTSTAMP:20260421T024947Z
DTSTART:20260509T070000Z
DTEND:20260508T220000Z
LOCATION:
DESCRIPTION:Samstag\, 9. Mai 2026\n9.00 + 11.00 Uhr\n  Firmung\nMark
 tplatz/Pfarrkirche Kumberg\nPfarre Kumberg\nwww.einblicke.graz-seckau
 .at\n
URL;VALUE=URI:
SUMMARY:firmung-4
BEGIN:VALARM
TRIGGER;VALUE=DATE-TIME:20260508T130000Z
ACTION:DISPLAY
DESCRIPTION:ALARM
END:VALARM
END:VEVENT
END:VCALENDAR
