BEGIN:VCALENDAR
VERSION:2.0
PRODID:-//kommunaljutsu.org//NONSGML v1.0//EN
METHOD:PUBLISH
CALSCALE:GREGORIAN
BEGIN:VEVENT
UID:https://www.kumberg.gv.at/veranstaltungen/fotowettbewerb-sport-im
 -ort/
DTSTAMP:20260424T125420Z
DTSTART:20260423T120000Z
DTEND:20260814T220000Z
LOCATION:
DESCRIPTION:Die Marktgemeinde Kumberg lädt wieder zum Fotowettbewerb
  ein. \nSport verbindet\, bewegt und begeistert – halte genau diese
  Momente in deinem Foto fest! Egal ob beim Training\, Wettkampf oder 
 einfach beim Spaß an der Bewegung: Zeig uns deine Sicht auf „Sport
  im Ort“. \nSo bist du dabei: Sende deine besten Aufnahmen (max. 3 
 Fotos&hellip\; weiterlesen: &#8222\;Fotowettbewerb &#8222\;Sport im O
 rt&#8220\;&#8220\;\n
URL;VALUE=URI:
SUMMARY:fotowettbewerb-sport-im-ort
BEGIN:VALARM
TRIGGER;VALUE=DATE-TIME:20260422T130000Z
ACTION:DISPLAY
DESCRIPTION:ALARM
END:VALARM
END:VEVENT
END:VCALENDAR
