BEGIN:VCALENDAR
VERSION:2.0
PRODID:-//kommunaljutsu.org//NONSGML v1.0//EN
METHOD:PUBLISH
CALSCALE:GREGORIAN
BEGIN:VEVENT
UID:https://www.kumberg.gv.at/veranstaltungen/fronleichnam-umzug-gott
 esdienst/
DTSTAMP:20260421T025818Z
DTSTART:20260604T170000Z
DTEND:20260603T220000Z
LOCATION:
DESCRIPTION:Donnerstag\, 4. Juni 2026\n19.00 Uhr\n  Fronleichnam &#8
 211\; Umzug + Gottesdienst\nPfarrkirche Kumberg\nPfarre Kumberg\n
URL;VALUE=URI:
SUMMARY:fronleichnam-umzug-gottesdienst
BEGIN:VALARM
TRIGGER;VALUE=DATE-TIME:20260603T130000Z
ACTION:DISPLAY
DESCRIPTION:ALARM
END:VALARM
END:VEVENT
END:VCALENDAR
