BEGIN:VCALENDAR
VERSION:2.0
PRODID:-//kommunaljutsu.org//NONSGML v1.0//EN
METHOD:PUBLISH
CALSCALE:GREGORIAN
BEGIN:VEVENT
UID:https://www.kumberg.gv.at/veranstaltungen/fruehschoppen-ff-kleins
 emmering-hofstaetten/
DTSTAMP:20260421T025328Z
DTSTART:20260514T070000Z
DTEND:20260513T220000Z
LOCATION:
DESCRIPTION:Donnerstag\, 14. Mai 2026\n9.00 Uhr\n  FF-Frühschoppen\
 nASZ Gutenberg-Stenzengreith\nFF Kleinsemmering-Hofstätten\nff-klein
 semmering-hofstaetten.at\n
URL;VALUE=URI:
SUMMARY:fruehschoppen-ff-kleinsemmering-hofstaetten
BEGIN:VALARM
TRIGGER;VALUE=DATE-TIME:20260513T130000Z
ACTION:DISPLAY
DESCRIPTION:ALARM
END:VALARM
END:VEVENT
END:VCALENDAR
