BEGIN:VCALENDAR
VERSION:2.0
PRODID:-//kommunaljutsu.org//NONSGML v1.0//EN
METHOD:PUBLISH
CALSCALE:GREGORIAN
BEGIN:VEVENT
UID:https://www.kumberg.gv.at/veranstaltungen/gefuehrte-wanderung-58/
DTSTAMP:20260424T125205Z
DTSTART:20260507T060000Z
DTEND:20260506T220000Z
LOCATION:
DESCRIPTION:Die nächste geführte Wanderung  findet am Donnerstag
 \, dem 7. Mai 2026 \, statt.\nTreffpunkt: 8.00 Uhr beim Parkplatz vor
  dem Kaufhaus Loder\, wo Fahrgemeinschaften gebildet werden.\nWanderu
 ng: Sankt Bartholomä Rundweg\;\nGehzeit:  ca. 3 – 4 Std.\;\nEinke
 hr:  Essen nach der Wanderung in einem Gasthaus vor Ort\;\nWanderbeg
 leitung: Rudi Koller \nWandern auch Sie mit!\n
URL;VALUE=URI:
SUMMARY:gefuehrte-wanderung-58
BEGIN:VALARM
TRIGGER;VALUE=DATE-TIME:20260506T130000Z
ACTION:DISPLAY
DESCRIPTION:ALARM
END:VALARM
END:VEVENT
END:VCALENDAR
