BEGIN:VCALENDAR
VERSION:2.0
PRODID:-//kommunaljutsu.org//NONSGML v1.0//EN
METHOD:PUBLISH
CALSCALE:GREGORIAN
BEGIN:VEVENT
UID:https://www.kumberg.gv.at/veranstaltungen/gemma-a-runde-2/
DTSTAMP:20260424T125113Z
DTSTART:20260422T070000Z
DTEND:20260825T220000Z
LOCATION:
DESCRIPTION:Wer hat Lust\, eine gemeinsame Runde zu gehen?\nKomm einf
 ach mit! Jeden Mittwoch mit Treffpunkt um 9.00 Uhr vor dem Gemeindeam
 t (Dauer: ca. 1\,5 Std.).\nEin Programm der „Gesunden Gemeinde Kumb
 erg“ für alle\, egal ob Stubenhocker oder Bewegungsmuffel\, für J
 ung und jung Gebliebene.\n
URL;VALUE=URI:
SUMMARY:gemma-a-runde-2
BEGIN:VALARM
TRIGGER;VALUE=DATE-TIME:20260421T130000Z
ACTION:DISPLAY
DESCRIPTION:ALARM
END:VALARM
END:VEVENT
END:VCALENDAR
