BEGIN:VCALENDAR
VERSION:2.0
PRODID:-//kommunaljutsu.org//NONSGML v1.0//EN
METHOD:PUBLISH
CALSCALE:GREGORIAN
BEGIN:VEVENT
UID:https://www.kumberg.gv.at/veranstaltungen/gesundheits-u-pflegeber
 atung-bewegen-wahrnehmen-3/
DTSTAMP:20260424T125814Z
DTSTART:20260505T073000Z
DTEND:20260504T220000Z
LOCATION:
DESCRIPTION:Bewegen und Wahrnehmen werden wir uns am Dienstag\, dem 5
 . Mai 2026 \, ab 9.30 Uhr im Sitzungssaal der Marktge­meinde Kumberg
 . \nGemeinsam verbringen wir mindestens eine Stunde der aktiven Förd
 erung der Lebensfreude und Lebensak­tivität\, um etwas Gutes für K
 örper\, Geist und Seele zu tun.\n
URL;VALUE=URI:
SUMMARY:gesundheits-u-pflegeberatung-bewegen-wahrnehmen-3
BEGIN:VALARM
TRIGGER;VALUE=DATE-TIME:20260504T130000Z
ACTION:DISPLAY
DESCRIPTION:ALARM
END:VALARM
END:VEVENT
END:VCALENDAR
