BEGIN:VCALENDAR
VERSION:2.0
PRODID:-//kommunaljutsu.org//NONSGML v1.0//EN
METHOD:PUBLISH
CALSCALE:GREGORIAN
BEGIN:VEVENT
UID:https://www.kumberg.gv.at/veranstaltungen/klima-energieberatung-a
 ndreas-felber-12/
DTSTAMP:20260421T042138Z
DTSTART:20261209T160000Z
DTEND:20261209T180000Z
LOCATION:
DESCRIPTION:Mittwoch\, 9. Dezember 2026 \, von 17.00 bis 19.00 Uhr\, 
 nach telefonischer Voranmeldung unter Tel. 0664/78 83 40 16 .\n
URL;VALUE=URI:
SUMMARY:klima-energieberatung-andreas-felber-12
BEGIN:VALARM
TRIGGER;VALUE=DATE-TIME:20261208T140000Z
ACTION:DISPLAY
DESCRIPTION:ALARM
END:VALARM
END:VEVENT
END:VCALENDAR
