BEGIN:VCALENDAR
VERSION:2.0
PRODID:-//kommunaljutsu.org//NONSGML v1.0//EN
METHOD:PUBLISH
CALSCALE:GREGORIAN
BEGIN:VEVENT
UID:https://www.kumberg.gv.at/veranstaltungen/klima-energieberatung-a
 ndreas-felber-6/
DTSTAMP:20260421T042057Z
DTSTART:20260610T150000Z
DTEND:20260610T170000Z
LOCATION:
DESCRIPTION:Mittwoch\, 10. Juni 2026 \, von 17.00 bis 19.00 Uhr\, nac
 h telefonischer Voranmeldung unter Tel. 0664/78 83 40 16 .\n
URL;VALUE=URI:
SUMMARY:klima-energieberatung-andreas-felber-6
BEGIN:VALARM
TRIGGER;VALUE=DATE-TIME:20260609T130000Z
ACTION:DISPLAY
DESCRIPTION:ALARM
END:VALARM
END:VEVENT
END:VCALENDAR
