BEGIN:VCALENDAR
VERSION:2.0
PRODID:-//kommunaljutsu.org//NONSGML v1.0//EN
METHOD:PUBLISH
CALSCALE:GREGORIAN
BEGIN:VEVENT
UID:https://www.kumberg.gv.at/veranstaltungen/muttertags-basteln-fuer
 -gross-klein/
DTSTAMP:20260424T125246Z
DTSTART:20260508T100000Z
DTEND:20260508T150000Z
LOCATION:
DESCRIPTION:Am Freitag\, 8. Mai 2026 \, 12.00 bis 17.00 Uhr im Sitzun
 gssaal der Marktgemeinde Kumberg. Teilnahmekosten: € 10\,&#8211\;.\
 nKomm vorbei und gestalte ein besonderes Geschenk für deine Mama –
  kreativ\, liebevoll und ganz persönlich. Ob Kinder\, Eltern\, Groß
 eltern oder Freunde &#8211\; jeder ist herzlich eingeladen\, einen sc
 hönen\, entspannten und kreativen Nachmittag mit uns zu verbringen.&
 hellip\; weiterlesen: &#8222\;Muttertags-Basteln für Groß &amp\; Kl
 ein&#8220\;\n
URL;VALUE=URI:
SUMMARY:muttertags-basteln-fuer-gross-klein
BEGIN:VALARM
TRIGGER;VALUE=DATE-TIME:20260507T130000Z
ACTION:DISPLAY
DESCRIPTION:ALARM
END:VALARM
END:VEVENT
END:VCALENDAR
