BEGIN:VCALENDAR
VERSION:2.0
PRODID:-//kommunaljutsu.org//NONSGML v1.0//EN
METHOD:PUBLISH
CALSCALE:GREGORIAN
BEGIN:VEVENT
UID:https://www.kumberg.gv.at/veranstaltungen/nikolaus-sendungsfeier/
DTSTAMP:20260421T105130Z
DTSTART:20261204T230000Z
DTEND:20261204T230000Z
LOCATION:
DESCRIPTION:Freitag\, 5. Dezember 2025 \n  Nikolaus Sendungsfeier\nP
 farrkirche Kumberg\nPfarre Kumberg\n
URL;VALUE=URI:
SUMMARY:nikolaus-sendungsfeier
BEGIN:VALARM
TRIGGER;VALUE=DATE-TIME:20261204T140000Z
ACTION:DISPLAY
DESCRIPTION:ALARM
END:VALARM
END:VEVENT
END:VCALENDAR
