BEGIN:VCALENDAR
VERSION:2.0
PRODID:-//kommunaljutsu.org//NONSGML v1.0//EN
METHOD:PUBLISH
CALSCALE:GREGORIAN
BEGIN:VEVENT
UID:https://www.kumberg.gv.at/veranstaltungen/platzkonzert-2/
DTSTAMP:20260421T082437Z
DTSTART:20260807T170000Z
DTEND:20260806T220000Z
LOCATION:
DESCRIPTION:Freitag\, 7. August 2026\n19.00 Uhr\n  Platzkonzert\nMar
 ktplatz Kumberg\nKKK und div. Parteien\n
URL;VALUE=URI:
SUMMARY:platzkonzert-2
BEGIN:VALARM
TRIGGER;VALUE=DATE-TIME:20260806T130000Z
ACTION:DISPLAY
DESCRIPTION:ALARM
END:VALARM
END:VEVENT
END:VCALENDAR
