BEGIN:VCALENDAR
VERSION:2.0
PRODID:-//kommunaljutsu.org//NONSGML v1.0//EN
METHOD:PUBLISH
CALSCALE:GREGORIAN
BEGIN:VEVENT
UID:https://www.kumberg.gv.at/veranstaltungen/platzkonzert-full-supa-
 band-3/
DTSTAMP:20260421T025527Z
DTSTART:20260612T170000Z
DTEND:20260611T220000Z
LOCATION:
DESCRIPTION:Freitag\, 12. Juni 2026\n19.00 Uhr\n  Platzkonzert &#822
 2\;Full Supa Band&#8220\;\nMarktplatz Kumberg\nKKK und div. Parteien\
 nwww.kulturkreis-kumberg.at\n
URL;VALUE=URI:
SUMMARY:platzkonzert-full-supa-band-3
BEGIN:VALARM
TRIGGER;VALUE=DATE-TIME:20260611T130000Z
ACTION:DISPLAY
DESCRIPTION:ALARM
END:VALARM
END:VEVENT
END:VCALENDAR
