BEGIN:VCALENDAR
VERSION:2.0
PRODID:-//kommunaljutsu.org//NONSGML v1.0//EN
METHOD:PUBLISH
CALSCALE:GREGORIAN
BEGIN:VEVENT
UID:https://www.kumberg.gv.at/veranstaltungen/rabnitzer-dorffest-4/
DTSTAMP:20260424T083432Z
DTSTART:20260906T090000Z
DTEND:20260905T220000Z
LOCATION:
DESCRIPTION:Sonntag\, 6. September 2026\n11.00 Uhr\n  Rabnitzer Dorf
 fest\nStocksporthalle Rabnitz\nESV Rabnitz\nrobert.paierl@hotmail.com
 \n
URL;VALUE=URI:
SUMMARY:rabnitzer-dorffest-4
BEGIN:VALARM
TRIGGER;VALUE=DATE-TIME:20260905T130000Z
ACTION:DISPLAY
DESCRIPTION:ALARM
END:VALARM
END:VEVENT
END:VCALENDAR
