BEGIN:VCALENDAR
VERSION:2.0
PRODID:-//kommunaljutsu.org//NONSGML v1.0//EN
METHOD:PUBLISH
CALSCALE:GREGORIAN
BEGIN:VEVENT
UID:https://www.kumberg.gv.at/veranstaltungen/sprung-in-den-sommer-3/
DTSTAMP:20260421T023743Z
DTSTART:20260613T120000Z
DTEND:20260612T220000Z
LOCATION:
DESCRIPTION:Samstag\, 13. Juni 2026\n14.00 Uhr\n  Sprung in den Somm
 er\nwell welt kumberg\nMG Kumberg Orts- und Infrastruktur.\nwww.kumbe
 rg.gv.at\n
URL;VALUE=URI:
SUMMARY:sprung-in-den-sommer-3
BEGIN:VALARM
TRIGGER;VALUE=DATE-TIME:20260612T130000Z
ACTION:DISPLAY
DESCRIPTION:ALARM
END:VALARM
END:VEVENT
END:VCALENDAR
