BEGIN:VCALENDAR
VERSION:2.0
PRODID:-//kommunaljutsu.org//NONSGML v1.0//EN
METHOD:PUBLISH
CALSCALE:GREGORIAN
BEGIN:VEVENT
UID:https://www.kumberg.gv.at/veranstaltungen/steuerberatungskanzlei-
 mag-andrea-lamminger-23/
DTSTAMP:20260425T041827Z
DTSTART:20260429T160000Z
DTEND:20260429T170000Z
LOCATION:
DESCRIPTION:Mittwoch\,  29. April 2026  von 18.00 bis 19.00 Uhr. \n
 (telefonische Anmeldung erforderlich – Tel. 03132/22 03 )\n
URL;VALUE=URI:
SUMMARY:steuerberatungskanzlei-mag-andrea-lamminger-23
BEGIN:VALARM
TRIGGER;VALUE=DATE-TIME:20260428T130000Z
ACTION:DISPLAY
DESCRIPTION:ALARM
END:VALARM
END:VEVENT
END:VCALENDAR
