BEGIN:VCALENDAR
VERSION:2.0
PRODID:-//kommunaljutsu.org//NONSGML v1.0//EN
METHOD:PUBLISH
CALSCALE:GREGORIAN
BEGIN:VEVENT
UID:https://www.kumberg.gv.at/veranstaltungen/tv-kumberg-turnvorfuehr
 ung/
DTSTAMP:20260421T030224Z
DTSTART:20260507T143000Z
DTEND:20260506T220000Z
LOCATION:
DESCRIPTION:Donnerstag\, 7. Mai 2026\n16.30 Uhr\n  TV Kumberg Turnvo
 rführung\nMehrzweckhalle Kumberg\nTurnverein Kumberg\n
URL;VALUE=URI:
SUMMARY:tv-kumberg-turnvorfuehrung
BEGIN:VALARM
TRIGGER;VALUE=DATE-TIME:20260506T130000Z
ACTION:DISPLAY
DESCRIPTION:ALARM
END:VALARM
END:VEVENT
END:VCALENDAR
