BEGIN:VCALENDAR
VERSION:2.0
PRODID:-//kommunaljutsu.org//NONSGML v1.0//EN
METHOD:PUBLISH
CALSCALE:GREGORIAN
BEGIN:VEVENT
UID:https://www.kumberg.gv.at/veranstaltungen/weihnachtswunschkonzert
 -6/
DTSTAMP:20260421T110018Z
DTSTART:20261128T183000Z
DTEND:20261127T230000Z
LOCATION:
DESCRIPTION:Samstag\, 28. November 2026\n19.30 Uhr\n  Weihnachtswuns
 chkonzert\nMehrzweckhalle Kumberg\nMarktmusikverein Kumberg\n
URL;VALUE=URI:
SUMMARY:weihnachtswunschkonzert-6
BEGIN:VALARM
TRIGGER;VALUE=DATE-TIME:20261127T140000Z
ACTION:DISPLAY
DESCRIPTION:ALARM
END:VALARM
END:VEVENT
END:VCALENDAR
