BEGIN:VCALENDAR
VERSION:2.0
PRODID:-//kommunaljutsu.org//NONSGML v1.0//EN
METHOD:PUBLISH
CALSCALE:GREGORIAN
BEGIN:VEVENT
UID:https://www.kumberg.gv.at/veranstaltungen/weihnachtswunschkonzert
 -7/
DTSTAMP:20260421T105208Z
DTSTART:20261129T140000Z
DTEND:20261128T230000Z
LOCATION:
DESCRIPTION:Sonntag\, 29. November 2026\n15.00 Uhr\n  Weihnachtswuns
 chkonzert\nMehrzweckhalle Kumberg\nMarktmusikverein Kumberg\n
URL;VALUE=URI:
SUMMARY:weihnachtswunschkonzert-7
BEGIN:VALARM
TRIGGER;VALUE=DATE-TIME:20261128T140000Z
ACTION:DISPLAY
DESCRIPTION:ALARM
END:VALARM
END:VEVENT
END:VCALENDAR
